BEGIN:VCALENDAR
VERSION:2.0
PRODID:-//Tukios.com/
BEGIN:VEVENT
UID:6abfb3a7-dbaf-4538-8e45-d57850a0362c@www.colonialsouthernfh.com
DTSTAMP:20260425T231436Z
DTSTART:20260426T210000Z
DTEND:20260426T230000Z
SUMMARY:Visitation
DESCRIPTION:
URL:https://www.colonialsouthernfh.com/obituaries/courtnee-shirnes
LOCATION:Grand Oak Chapel of Colonial Southern Services 220 Jacuzzi Lane  
	Lonoke AR 72086
GEO:34.7865372;-91.8939815
END:VEVENT
END:VCALENDAR